Workbook

Sheet INDICES 
A1: PADRÕES DE COEFICIENTES E INDÍCES
A3: OLEO DIESEL:
B4: INFERIOR | C4: SUPERIOR | D4: ADOTADO
A5: LEVE | B5: 0.35 | C5: 0.39 | D5: 0.35
A6: PESADO | B6: 0.45 | C6: 0.5
A7: ESPECIAL | B7: 0.53 | C7: 0.65
A9: LUBRIFICANTES:
B10: INFERIOR | C10: SUPERIOR | D10: ADOTADO
B11: 0.04 | C11: 0.06 | D11: 0.04
A13: PNEU:
B14: INFERIOR | C14: SUPERIOR | D14: ADOTADO
A15: MODELO DIAGONAL | B15: 70000 | C15: 92000
A16: MODELO RADIAL | B16: 85000 | C16: 125000 | D16: 85000
A18: RECAPAGEM (Qtde prevista):
B19: INFERIOR | C19: SUPERIOR | D19: ADOTADO
A20: MODELO DIAGONAL | B20: 2.5 | C20: 3.5
A21: MODELO RADIAL | B21: 2 | C21: 3 | D21: 2
A23: PEÇAS E ACESSÓRIOS:
B24: INFERIOR | C24: SUPERIOR | D24: ADOTADO
B25: 0.0033 | C25: 0.0083 | D25: 0.0033
A27: MÃO-DE-OBRA:
B28: INFERIOR | C28: SUPERIOR | D28: ADOTADO
A29: MOTORISTA | B29: 2.2 | C29: 2.8 | D29: 2.2
A30: COBRADOR | B30: 2.2 | C30: 2.8 | D30: 2.2
A31: FISCAL | B31: 0.2 | C31: 0.5 | D31: 0.2
A32: BENEFÍCIOS - (Básico)
A33: BENEFÍCIOS - (Micro/Mini)
A34: ADMINISTRATIVO | B34: 0.08 | C34: 0.13 | D34: 0.08
A35: MANUTENÇÃO | B35: 0.12 | C35: 0.15 | D35: 0.12
A37: DESPESAS GERAIS
B38: INFERIOR | C38: SUPERIOR | D38: ADOTADO
A39: Despesas Gerais | B39: 0.0017 | C39: 0.0033 | D39: 0.0017

Sheet COMPOSIÇÃO TOTAL
A1: PREFEITURA MUNICIPAL DE SANTA RITA DO SAPUCAI/MG
A3: PLANILHA ESTIMADA DE CUSTOS
A6: 1 | B6: CUSTOS VARIÁVEIS:
B8: 1.1 | C8: Combustivel Óleo Diesel
G9: Coef. Consumo | I9: Preço óleo diesel | L9: Valor (R$ / km)
I10: + Frete
B11: 1.1.1 | C11: Microônibus | G11: ='INDICES '!B5 -> 0.35 | H11: (l/km) x | I11: 4.9 | J11: R$/l | K11: = | L11: =+G11*I11 -> 1.715
B13: 1.1.2 | C13: Miniônibus | G13: 0 | H13: (l/km) x | I13: 0 | J13: R$/l | K13: = | L13: =+G13*I13 -> 0
B15: 1.1.3 | C15: Ônibus Básico | G15: =+'INDICES '!D5 -> 0.35 | H15: (l/km) x | I15: =I11 -> 4.9 | J15: R$/l | K15: = | L15: =+G15*I15 -> 1.715
B17: 1.1.4 | C17: Ponderado (pela Frota) | L17: =+(L11*G249+L13*G250+L15*G251)/G253 -> 1.715
G19: Coef. Consumo | I19: Preço óleo diesel | L19: Valor (R$ / km)
I20: + Frete
B21: 1.2 | C21: Lubrificantes - (c/Frete) | G21: =+'INDICES '!D11 -> 0.04 | H21: (l/km) x | I21: 4.9 | J21: R$/l | K21: = | L21: =+G21*I21 -> 0.196 | M21: (1.2.7)
B23: 1.3 | C23: Rodagem
C25: 1.3.1 - Minicroônibus | G25: Quantidade | I25: Preço | L25: Valor (R$)
C27: Pneus - (Radial 215/75) | G27: 1 x 6 x | I27: 2477.51 | K27: = | L27: =+I27*R27*S27 -> 14865.06 | R27: 1 | S27: 6
C29: Recapagens | G29: 2 x 6 x | I29: 529 | K29: = | L29: =+I29*R29*S29 -> 6348 | R29: 2 | S29: 6
C31: Câmaras | G31: 2 x 6 x | I31: 0 | K31: = | L31: =+I31*R31*S31 -> 0 | R31: 2 | S31: 6
C33: Protetores | G33: 2 x 6 x | I33: 0 | K33: = | L33: =+I33*R33*S33 -> 0 | R33: 2 | S33: 6
C35: Total Microônibus | L35: =+L27+L29+L31+L33 -> 21213.06 | M35: (1.3.1)
C37: 1.3.2 - Miniônibus | G37: Quantidade | I37: Preço | L37: Valor (R$)
C39: Pneus - (Radial 215/75) | G39: 1 x 6 x | I39: 0 | K39: = | L39: =+I39*R39*S39 -> 0 | R39: 1 | S39: 6
C41: Recapagens | G41: 2 x 6 x | I41: 0 | K41: = | L41: =+I41*R41*S41 -> 0 | R41: 2 | S41: 6
C43: Câmaras | G43: 2 x 6 x | I43: 0 | K43: = | L43: =+I43*R43*S43 -> 0 | R43: 2 | S43: 6
C45: Protetores | G45: 2 x 6 x | I45: 0 | K45: = | L45: =+I45*R45*S45 -> 0 | R45: 2 | S45: 6
C47: Total Miniônibus | L47: =+L39+L41+L43+L45 -> 0 | M47: (1.3.2)
C49: 1.3.3 - Ônibus Básicos | G49: Quantidade | I49: Preço | L49: Valor (R$)
C51: Pneus - (Radial 275/80) | G51: 1 x 6 x | I51: 2477.51 | K51: = | L51: =+I51*R51*S51 -> 14865.06 | R51: 1 | S51: 6
C53: Recapagens | G53: 2 x 6 x | I53: 529 | K53: = | L53: =+I53*R53*S53 -> 6348 | R53: 2 | S53: 6
C55: Câmaras | G55: 2 x 6 x | I55: 0 | K55: = | L55: =+I55*R55*S55 -> 0 | R55: 2 | S55: 6
C57: Protetores | G57: 2 x 6 x | I57: 0 | K57: = | L57: =+I57*R57*S57 -> 0 | R57: 2 | S57: 6
C59: Total Ônibus Básicos | L59: =+L51+L53+L55+L57 -> 21213.06 | M59: (1.3.3)
C61: 1.3.4 - Custo Total com Rodagem Ponderado pela Frota - (Média Ponderada: 1.3.1 + 1.3.2 + 1.3.3) / (Frota Total) | L61: =+(L35*G249+L47*G250+L59*G251)/G253 -> 21213.06
C63: 1.3.5 - Vida Útil (km) | L63: =+'INDICES '!D16 -> 85000
C65: 1.3.6 - R$ / km relativos a Rodagem (1.3.4 / 1.3.5) | L65: =+L61/L63 -> 0.24956541
B67: 1.4 | C67: Peças e Acessórios
C69: Coef. Consumo | E69: Preço Médio Ponderado Veículo Novo sem rodagem | I69: PMM (PERCURSO MEDIO MENSAL) | L69: Valor (R$ / km)
C71: =+'INDICES '!D25 -> 0.0033 | D71: x | F71: =+((G249*L147+G250*L181+G251*L215))/G253 -> 641449.96 | G71: / | I71: =+D347 -> 3698.9875 | K71: = | L71: =+(C71*F71)/I71 -> 0.57226062
B73: 1.5 | C73: Distribuição dos Custos Variáveis
B75: 1.5.1 | C75: Óleo Diesel (1.1.4) | L75: =+L17 -> 1.715
...

Sheet ORIGEM DE PREÇOS
A1: ORIGEM DE PREÇOS - PLANILHA ESTIMADA DE CUSTOS
A3: 1. CUSTOS VARIÁVEIS
A5: 1.1 Combustível Óleo Diesel
A6: Considera-se o valor de R$4,90 por litro, com base em valor referencial informado pela PETROBRAS (ref. Minas Gerais, período de coleta de 02/07/2023 a 08/07/2023).
A7: 1.2 Lubrificantes (c/frete)
A8: Este custo é baseado no preço do combustível.
A9: 1.3 Rodagem
A10: 1.3.1 Microônibus
A11: Considera-se o valor unitário de R$2.477,51 para o pneu tipo radial 215/75 e R$529,00 a recapagem, vida útil 85.000 km.
A13: 1.3.2 Ônibus básico
A14: Considera-se o valor unitário de R$2.477,51 para o pneu tipo radial 275/75 e R$529,00 a recapagem, vida útil 85.000 km.
A15: 1.4 Peças e Acessórios
... A41: Não há incidência na composição de custo estimada, devendo a gestão contratual deliberar e incidir durante a vigência contratual, se for o caso.
