Workbook

Sheet Entrada
A1: Dados para os formulário
A3: Exercício Financeiro: | B3: 2021
A4: Nome da Organização: | B4: Associação de Pais e Amigos do Excepcional (APAE)
A5: CNPJ:
A6: Conselho Municipal tem Inscrição:
A7: Rua/Avenida/Praça:
A8: Nº:
A9: Bairro:
A10: Município:
A11: CEP:
A12: Telefone:
A13: FAX:
A14: Site:
A15: E-mail:
A16: Nome do Responsável Legal:
... A31: CRC:

Sheet Anexo_III_Oficio
A1: Ofício nº:
A2: Assunto: | C2: Solicitação de Celebração de Termo de Parceria
D9: O(a) | E9: =CONCATENATE(Entrada!B4,",") -> Associação de Pais e Amigos do Excepcional (APAE), | T9: inscrito(a) no
A10: CPNJ sob o nº | E10: =(Entrada!B5) -> 0 | J10: , situado(a) à | M10: =CONCATENATE(Entrada!B7,", ",Entrada!B8) -> ,
A11: Bairro | C11: =Entrada!B9 -> 0 | J11: , Município de | N11: =CONCATENATE(Entrada!B10,",") -> ,
A12: neste ato representado pelo Sr. | H12: =CONCATENATE(Entrada!B16,", ") -> ,
A13: =CONCATENATE(Entrada!B17,",") -> , | D13: portador do CPF sob o nº | J13: =(Entrada!B18) -> 0 | N13: e Carteira de Identidade nº
A14: =(Entrada!B19) -> 0 | F14: , sito à | H14: =CONCATENATE(Entrada!B20,", ",Entrada!B21) -> ,
A15: Bairro | C15: =Entrada!B22 -> 0 | J15: , Município de | N15: =CONCATENATE(Entrada!B23,",") -> ,
A16: venho por meio deste, SOLICITAR a celebração do Termo de Parceria, nos termos da Lei Federal nº
A17: 13.019/2014, para | E17: =Anexo_X_Plano_Trabalho!$A$22 -> SELEÇÃO DE ENTIDADE DE DIREITO PRIVADO, SEM FINS LUCRATIVOS, QUALIFICADA COMO ORGANIZAÇÃO DA SOCIEDADE CIVIL, NOS TERMOS DA LEI FEDERAL Nº 13.019/2014, QUE SE INTERESSE FIRMAR TERMO DE PARCERIA COM O MUNICÍPIO DE SANTA RITA DO SAPUCAÍ, ATRAVÉS DA SECRETARIA MUNICIPAL DE EDUCAÇÃO, PARA ATUAÇÃO NAS ÁREAS DE SAÚDE, ASSISTÊNCIA SOCIAL E EDUCAÇÃO, NO ATENDIMENTO DE PESSOAS COM DEFICIÊNCIA - PcD
A19: com as seguintes justificativas,
A25: Santa Rita do Sapucaí, | L25: =TODAY() -> 44386
A31: =(Entrada!B16) -> 0
A32: =CONCATENATE(Entrada!B17," do(a) ",Entrada!B4) -> do(a) Associação de Pais e Amigos do Excepcional (APAE)

Sheet Anexo_IV_Dados Cadastrais
A1: DADOS CADASTRAIS DA ORGANIZAÇÃO DA SOCIEDADE CIVIL
A3: EXERCÍCIO FINANCEIRO: | L3: =(Entrada!B3) -> 2021
A4: I. Identificação da Organização da Sociedade Civil (OSC) CONVENENTE
A5: Nome da Organização da Sociedade Civil:
A6: =(Entrada!B4) -> Associação de Pais e Amigos do Excepcional (APAE)
A7: CNPJ: | G7: Indicar em qual Conselho Municipal tem Inscrição
A8: =(Entrada!B5) -> 0 | G8: =(Entrada!B6) -> 0
A9: Rua/Avenida/Praça: | T9: Nº:
A10: =(Entrada!B7) -> 0 | T10: =(Entrada!B8) -> 0
A11: Bairro: | J11: Município: | S11: CEP:
A12: =(Entrada!B9) -> 0 | J12: =(Entrada!B10) -> 0 | S12: =(Entrada!B11) -> 0
A13: Telefone: | L13: FAX:
A14: =(Entrada!B12) -> 0 | L14: =(Entrada!B13) -> 0
A15: Site: | L15: E-mail:
A16: =(Entrada!B14) -> 0 | L16: =(Entrada!B15) -> 0
A17: I. Identificação do Responsável Legal da OSC
A18: Nome:
A19: =(Entrada!B16) -> 0
A20: CPF: | L20: Carteira de identidade:
A21: =(Entrada!B18) -> 0 | L21: =(Entrada!B19) -> 0
A22: Rua/Avenida/Praça: | T22: Nº:
A23: =(Entrada!B20) -> 0 | T23: =(Entrada!B21) -> 0
A24: Bairro: | J24: Município: | S24: CEP:
A25: =(Entrada!B22) -> 0 | J25: =(Entrada!B23) -> 0 | S25: =(Entrada!B24) -> 0
A26: Telefone: | L26: Celular:
A27: =(Entrada!B25) -> 0 | L27: =(Entrada!B26) -> 0
A28: E-mail: | L28: Data da Posse:
A29: =(Entrada!B27) -> 0 | L29: =(Entrada!B28) -> 0
D31: Eu, | E31: =CONCATENATE(Entrada!B16,",") -> , | S31: =CONCATENATE(Entrada!B17, " do(a)") -> do(a)
A32: =CONCATENATE(Entrada!B4,",") -> Associação de Pais e Amigos do Excepcional (APAE), | Q32: inscrito no CPF sob o nº
A33: =(Entrada!B18) -> 0 | E33: , DECLARO para os devidos fins, que estou ciente da Legislação de Regência,
A34: especialmente, quanto à utilização dos recursos financeiros, da forma a ser efetuada a prestação de
A35: contas e ao cumprimento das metas do Plano de Trabalho.
D37: Comprometemos em receber, aplicar e prestar constas dos recursos que nos forem
A38: concedidos pela Administração Municipal e darmos publicidade e acesso a quem de direito solicitar.
A41: Santa Rita do Sapucaí, | L41: =TODAY() -> 44386
A46: =(Entrada!B16) -> 0
A47: =CONCATENATE(Entrada!B17," do(a) ",Entrada!B4) -> do(a) Associação de Pais e Amigos do Excepcional (APAE)

Sheet Anexo_V_Diretoria
A1: RELAÇÃO NOMINAL ATUALIZADA DOS DIRIGENTES DA ORGANIZAÇÃO
D6: Eu, | E6: =CONCATENATE(Entrada!B16,",") -> , | S6: =CONCATENATE(Entrada!B17, " do(a)") -> do(a)
A7: =CONCATENATE(Entrada!B4,",") -> Associação de Pais e Amigos do Excepcional (APAE), | Q7: inscrito no CPF sob o nº
A8: =(Entrada!B18) -> 0 | E8: , INFORMO que os Dirigentes e Conselheiros da referida Organização da
A9: Sociedade Cívil, cujo período de atuação é de | K9: =Entrada!$B$28 -> 0 | O9: a | P9: =Entrada!$B$29 -> 0 | T9: , são:
A11: NOME | G11: CARGO | J11: ENDEREÇO | P11: RG/EXP | T11: CPF
A12: =(Entrada!B16) -> 0 | G12: =(Entrada!B17) -> 0 | J12: =CONCATENATE(Entrada!B20,", ",Entrada!B21) -> , | P12: =(Entrada!B19) -> 0 | T12: =(Entrada!B18) -> 0
A28: Santa Rita do Sapucaí, | L28: =TODAY() -> 44386
A32: =(Entrada!B16) -> 0
A33: =CONCATENATE(Entrada!B17," do(a) ",Entrada!B4) -> do(a) Associação de Pais e Amigos do Excepcional (APAE)

Sheet Anexo_VI_Contador
A1: DECLARAÇÃO DO CONTADOR RESPONSÁVEL
D6: Eu, | E6: =(Entrada!B30) -> 0 | V6: ,
A7: inscrito no CRC | E7: =(Entrada!B31) -> 0 | L7: , responsável pela Contabilidade do(a)
A8: =CONCATENATE(Entrada!B4,",") -> Associação de Pais e Amigos do Excepcional (APAE), | R8: DECLARO para os
A9: devidos fins que a referida Organização apresenta Escrituração de Acordo com os princípios fundamentais de Contabilidade e com as Normais Brasileiras de Contabilidade, conforme Demonstração Contábeis do último exercício.
D15: Por ser verdade firmo a presente.
A22: Santa Rita do Sapucaí, | L22: =TODAY() -> 44386
A27: =(Entrada!B30) -> 0
A28: =CONCATENATE("CRC n°: ",Entrada!B31) -> CRC n°:
A34: =(Entrada!B16) -> 0
A35: =CONCATENATE(Entrada!B17," do(a) ",Entrada!B4) -> do(a) Associação de Pais e Amigos do Excepcional (APAE)

Sheet Anexo_VII_CTO
A1: DECLARAÇÃO DE CAPACIDADE TÉCNICA E OPERACIONAL
D8: Eu, | E8: =(Entrada!B16) -> 0 | S8: =CONCATENATE(", ",Entrada!B17," do(a)") -> , do(a)
A9: =CONCATENATE(Entrada!B4,",") -> Associação de Pais e Amigos do Excepcional (APAE), | Q9: inscrito no CPF sob o nº
A10: =(Entrada!B18) -> 0 | E10: DECLARO para os devidos fins que a referida Organização POSSUE Capacidade
A11: Técnica e Operacional com instalações, condições de materiais e humanas para o desenvolvimento das atividades ou projetos previstos na Parceria e no cumprimento das metas estabelecidas.
A13: Nº | B13: Nome do Profissional | Q13: Cargos
A14: 1
A15: 2
A16: 3
A17: 4
A18: 5
A19: 6
A20: 7
A21: 8
A22: 9
A23: 10
A24: 11
A25: 12
... A28: 15
A32: Santa Rita do Sapucaí, | L32: =TODAY() -> 44386
A37: =(Entrada!B16) -> 0
A38: =CONCATENATE(Entrada!B17," do(a) ",Entrada!B4) -> do(a) Associação de Pais e Amigos do Excepcional (APAE)

Sheet Anexo_VIII_Impedimentos
A1: DECLARAÇÃO QUE NÃO POSSUI IMPEDIMENTOS PARA CELEBRAÇÃO DE PARCERIAS
D10: Eu, | E10: =(Entrada!B16) -> 0 | S10: =CONCATENATE(", ",Entrada!B17," do(a)") -> , do(a)
A11: =CONCATENATE(Entrada!B4,",") -> Associação de Pais e Amigos do Excepcional (APAE), | Q11: inscrito no CPF sob o nº
A12: =(Entrada!B18) -> 0 | E12: DECLARO para os devidos fins que, esta Organização não está impedida de
A13: celebrar qualquer modalidade de parceria com órgãos públicos e que, portanto, não se submete às vedações previstas no Artigo 39 da Lei Federal nº 13.019/2014, de 31 de julho de 2014 e alterações.
D15: DECLARO ainda, que esta Organização não está omissa no dever de prestar contas de
A16: parceria anteriormente celebrada.
D19: Por ser verdade,
D20: Firmo o presente.
A26: Santa Rita do Sapucaí, | L26: =TODAY() -> 44386
A32: =(Entrada!B16) -> 0
A33: =CONCATENATE(Entrada!B17," do(a) ",Entrada!B4) -> do(a) Associação de Pais e Amigos do Excepcional (APAE)

Sheet Anexo_IX_Menores
A1: DECLARAÇÃO QUE NÃO EMPREGA MENORES
D10: Eu, | E10: =(Entrada!B16) -> 0 | S10: =CONCATENATE(", ",Entrada!B17," do(a)") -> , do(a)
A11: =CONCATENATE(Entrada!B4,",") -> Associação de Pais e Amigos do Excepcional (APAE), | Q11: inscrito no CPF sob o nº
A12: =(Entrada!B18) -> 0 | E12: DECLARO para os devidos fins que, esta Organização não emprega menor de
A13: dezoito anos em trabalho noturno, perigoso ou insalubre e que não emprega menor de dezesseis anos, em cumprimento ao disposto no inciso XXXIII do Artigo 7º da Constituição Federal.
D16: Por ser verdade firmo a presente.
A23: Santa Rita do Sapucaí, | L23: =TODAY() -> 44386
A29: =(Entrada!B16) -> 0
A30: =CONCATENATE(Entrada!B17," do(a) ",Entrada!B4) -> do(a) Associação de Pais e Amigos do Excepcional (APAE)

Sheet Anexo_X_Plano_Trabalho
A1: PLANO DE TRABALHO
A3: 1. Identificação da Organização da Sociedade Civil Proponente
A4: Nome da Organização: | AB4: CNPJ:
A5: APAE | AB5: =Entrada!$B$5 -> 0
A7: 2. Breve Histórico da Organização da Sociedade Civil
A8: (Elaborar um histórico da Organização onde conste informações sobre os objetivos voltados à promoção de atividades e finalidades de relevância pública e social, o tempo de existência da organização, demonstrar a experiência prévia referente ao objeto da Parceria e a capacidade técnica e operacional para o desnvolvimento das atividades)
A11: 3. Justificativas
A12: (Descrição da realidade que será objeto da parceria, devendo ser demonstrado o nexo entre esta realidade e as atividades ou projetos a serem atingidos)
A14: 4. Objetivos
A15: 4.1 Objetivos Gerais (Informar claramente o objetivos gerais , os quais deverão corresponder à solução de problemas e/ou aproveitamento de potencialidades diagnosticadas no item 3. Justificativas)
A17: 4.2 Objetivos Específicos (Informar os objetivos específicos, caso haja. Atenção! Os objetivos específicos caracterizam as etapas intermediárias do projeto, ou seja, descrevem, com detalhes, o objetivo geral. O conjunto dos objetivos específicos não pode ser mais abrangente do que a proposta do objetivo geral. Se isso ocorrer, deve-se fazer uma revisão de todos os objetivos para adequá-los uns aos outros)
A21: 5. Descrição do Objeto a ser executado
A22: SELEÇÃO DE ENTIDADE DE DIREITO PRIVADO, SEM FINS LUCRATIVOS, QUALIFICADA COMO ORGANIZAÇÃO DA SOCIEDADE CIVIL, NOS TERMOS DA LEI FEDERAL Nº 13.019/2014, QUE SE INTERESSE FIRMAR TERMO DE PARCERIA COM O MUNICÍPIO DE SANTA RITA DO SAPUCAÍ, ATRAVÉS DA SECRETARIA MUNICIPAL DE EDUCAÇÃO, PARA ATUAÇÃO NAS ÁREAS DE SAÚDE, ASSISTÊNCIA SOCIAL E EDUCAÇÃO, NO ATENDIMENTO DE PESSOAS COM DEFICIÊNCIA - PcD
A24: 6. Cronograma de Execução
A25: (Descrição das Metas a serem atingidas e de Atividades ou Projetos a serem executados, bem com a forma de execução das atividades ou dos projetos e de cumprimento das netas a eles atrelados)
A26: Meta 1:
A27: ETAPA | I27: PERÍODO | O27: RESULTADOS PREVISTOS | X27: CUMPRIMENTO DAS METAS
A28: Nº | B28: Descrição | I28: Início | L28: Fim | O28: Descrição | V28: Quant. | X28: Meio de aferição | AE28: Período | AG28: Quant.
A29: 1
A32: 7. Declaração, data e assinatura
A33: Declaramos, solidariamente, sob as penas da Lei, que temos conhecimento das normas que tratam do Regime de Parcerias entre o Poder Público e as Organizações da Sociedade Civil, estabelecidas pela Lei Federal nº 13.019/2014 e suas alterações e pelo Decreto Municipal nº 11.431/2017, de 07 de março de 2017.
A36: Santa Rita do Sapucaí, | R36: =TODAY() -> 44386
A42: =(Entrada!B16) -> 0
A43: =CONCATENATE(Entrada!B17," do(a) ",Entrada!B4) -> do(a) Associação de Pais e Amigos do Excepcional (APAE)

Sheet Anexo_XI_Conta Corrente
A1: DECLARAÇÃO DE ABERTURA DE CONTA CORRENTE
D10: Eu, | E10: =(Entrada!B16) -> 0 | S10: =CONCATENATE(", ",Entrada!B17," do(a)") -> , do(a)
A11: =CONCATENATE(Entrada!B4,",") -> Associação de Pais e Amigos do Excepcional (APAE), | Q11: inscrito no CPF sob o nº
A12: =(Entrada!B18) -> 0 | E12: DECLARO para os devidos fins que e sob penas da Lei, que a conta bancária
A13: específica para a parceria e:
A15: Banco:
A16: Endereço:
A17: Município:
A18: Telefone:
A19: Agência nº:
A20: Conta nº:
D23: Por ser verdade firmo a presente.
A27: Santa Rita do Sapucaí, | L27: =TODAY() -> 44386
A33: =(Entrada!B16) -> 0
A34: =CONCATENATE(Entrada!B17," do(a) ",Entrada!B4) -> do(a) Associação de Pais e Amigos do Excepcional (APAE)

Sheet Anexo_XII_Rec e Aplicação
A1: DECLARAÇÃO DA ENTIDADE RESPONSABILIZANDO SE PELO RECEBIMENTO, APLICAÇÃO E PRESTAÇÃO DE CONTAS DOS RECURSOS QUE RECEBER À CONTA DA PARCERIA, BEM COMO OS DA DEVIDA CONTRAPARTIDA
D10: Eu, | E10: =(Entrada!B16) -> 0 | S10: =CONCATENATE(", ",Entrada!B17," do(a)") -> , do(a)
A11: =CONCATENATE(Entrada!B4,",") -> Associação de Pais e Amigos do Excepcional (APAE), | Q11: inscrito no CPF sob o nº
A12: =(Entrada!B18) -> 0 | E12: DECLARO para os devidos fins que e sob penas da Lei, que me responsabilizo
A13: pelo recebimento, aplicação e Prestação de Contas dos recursos financeiros que receber à conta das parcerias, bem como os da devida contrapartida.
D15: DECLARO ainda que, não haverá contratação ou remuneração a qualquer título, pela
A16: OSC, com os recursos repassados, de servidor ou empregado público, inclusive aquele que exerça cargo em comissão ou função de confiança de órgão ou entidade da Administração Pública celebrante, bem como respctivos cônjuges, companheiros ou parentes, até o segundo grau. em linha reta, colateral ou por afnidade.
D19: Por ser verdade firmo a presente.
A23: Santa Rita do Sapucaí, | L23: =TODAY() -> 44386
A29: =(Entrada!B16) -> 0
A30: =CONCATENATE(Entrada!B17," do(a) ",Entrada!B4) -> do(a) Associação de Pais e Amigos do Excepcional (APAE)
