Workbook
Name OLE_LINK1: Instruções!#REF!

Sheet Instruções
B3: INSTRUÇÕES
B5: Esta planilha deve ser usada para a descrição do orçamento total que será necessário para a execução da proposta em um período de 01 ano (12 meses). Após a elaboração do orçamento, anexe esta planilha no Formulário de Inscrição, juntamente com os demais documentos solicitados no Regulamento para Inscrição de Propostas - Edital FIA 2021.
B7: A planilha deverá ser encaminhada neste aquivo Excel.
B9: Além desta aba de instruções, a planilha contém outras 3 abas:
B11: Destinação Itaú Social: aqui devem ser lançados os itens de despesa que serão custeados com recursos da destinação ao Fundo que estiver sendo solicitada ao Itaú Social. Atenção: o valor máximo a ser solicitado é de R$250.000,00 (duzentos e cinquenta mil reais).
B12: Contrapartidas: aqui devem ser lançados todos os demais itens de despesa que serão custeados com recursos próprios da organização que irá executar a proposta e/ou com recursos direcionados por terceiros (outras empresas privadas, órgãos públicos, instituições de financiamento de projetos sociais, doações de pessoas físicas, etc.).
B13: Síntese: esta aba é gerada automaticamente à medida que as demais forem sendo preenchidas.
B14: ATENÇÃO: Em cada aba, os itens de despesa devem ser organizados nas quatro grandes categorias indicadas abaixo. Caso a proposta não tenha itens de despesa em alguma dessas categorias, deixe as linhas em branco. Se necessário, inclua linhas adicionais em qualquer das categorias.
B15: 1. Despesas com Bens Duráveis: aqui devem ser lançadas despesas com bens necessários para a execução da proposta, que não precisarão ser repostos com frequência:
B16: § Equipamentos permanentes
B17: § Mobiliário
B18: § Outros bens duráveis
... B44: Em caso de dúvidas entrar em contato com nossa equipe de apoio através dos telefones (11) 98777-0548, (11) 98777-0438, (11) 2127-4404 ou pelo e-mail: itausocial-edital@prattein.com.br

Sheet Destinação Itaú Social
M1: ANEXO 04
A2: Conselho dos Direitos da Criança e do Adolescente de: | C2: SANTA RITA DO SAPUCAÍ - MG
A3: Título da proposta:
A4: DESPESAS QUE SERÃO CUSTEADAS COM RECURSOS DA DESTINAÇÃO ITAÚ SOCIAL (Valor máximo: R$250.000,00) (Caso não estejam previstas despesas em alguma das categorias abaixo, deixe as linhas em branco. Se necessário, inclua linhas adicionais em qualquer das categorias.)
A5: 1. Despesas com Bens Duráveis | O5: Valor Total
A6: Descrição dos itens de despesa | C6: Mês 1 | D6: Mês 2 | E6: Mês 3 | F6: Mês 4 | G6: Mês 5 | H6: Mês 6 | I6: Mês 7 | J6: Mês 8 | K6: Mês 9 | L6: Mês 10 | M6: Mês 11 | N6: Mês 12
C7: 0 | D7: 0 | E7: 0 | F7: 0 | G7: 0 | H7: 0 | I7: 0 | J7: 0 | K7: 0 | L7: 0 | M7: 0 | N7: 0 | O7: =SUM(C7:N7) -> 0
C8: 0 | D8: 0 | E8: 0 | F8: 0 | G8: 0 | H8: 0 | I8: 0 | J8: 0 | K8: 0 | L8: 0 | M8: 0 | N8: 0 | O8: =SUM(C8:N8) -> 0
C9: 0 | D9: 0 | E9: 0 | F9: 0 | G9: 0 | H9: 0 | I9: 0 | J9: 0 | K9: 0 | L9: 0 | M9: 0 | N9: 0 | O9: =SUM(C9:N9) -> 0
C10: 0 | D10: 0 | E10: 0 | F10: 0 | G10: 0 | H10: 0 | I10: 0 | J10: 0 | K10: 0 | L10: 0 | M10: 0 | N10: 0 | O10: =SUM(C10:N10) -> 0
C11: 0 | D11: 0 | E11: 0 | F11: 0 | G11: 0 | H11: 0 | I11: 0 | J11: 0 | K11: 0 | L11: 0 | M11: 0 | N11: 0 | O11: =SUM(C11:N11) -> 0
C12: 0 | D12: 0 | E12: 0 | F12: 0 | G12: 0 | H12: 0 | I12: 0 | J12: 0 | K12: 0 | L12: 0 | M12: 0 | N12: 0 | O12: =SUM(C12:N12) -> 0
C13: 0 | D13: 0 | E13: 0 | F13: 0 | G13: 0 | H13: 0 | I13: 0 | J13: 0 | K13: 0 | L13: 0 | M13: 0 | N13: 0 | O13: =SUM(C13:N13) -> 0
C14: 0 | D14: 0 | E14: 0 | F14: 0 | G14: 0 | H14: 0 | I14: 0 | J14: 0 | K14: 0 | L14: 0 | M14: 0 | N14: 0 | O14: =SUM(C14:N14) -> 0
C15: 0 | D15: 0 | E15: 0 | F15: 0 | G15: 0 | H15: 0 | I15: 0 | J15: 0 | K15: 0 | L15: 0 | M15: 0 | N15: 0 | O15: =SUM(C15:N15) -> 0
C16: 0 | D16: 0 | E16: 0 | F16: 0 | G16: 0 | H16: 0 | I16: 0 | J16: 0 | K16: 0 | L16: 0 | M16: 0 | N16: 0 | O16: =SUM(C16:N16) -> 0
C17: 0 | D17: 0 | E17: 0 | F17: 0 | G17: 0 | H17: 0 | I17: 0 | J17: 0 | K17: 0 | L17: 0 | M17: 0 | N17: 0 | O17: =SUM(C17:N17) -> 0
C18: 0 | D18: 0 | E18: 0 | F18: 0 | G18: 0 | H18: 0 | I18: 0 | J18: 0 | K18: 0 | L18: 0 | M18: 0 | N18: 0 | O18: =SUM(C18:N18) -> 0
... C26: 0 | D26: 0 | E26: 0 | F26: 0 | G26: 0 | H26: 0 | I26: 0 | J26: 0 | K26: 0 | L26: 0 | M26: 0 | N26: 0 | O26: =SUM(C26:N26) -> 0
A27: Total | C27: =SUM(C7:C26) -> 0 | D27: =SUM(D7:D26) -> 0 | E27: =SUM(E7:E26) -> 0 | F27: =SUM(F7:F26) -> 0 | G27: =SUM(G7:G26) -> 0 | H27: =SUM(H7:H26) -> 0 | I27: =SUM(I7:I26) -> 0 | J27: =SUM(J7:J26) -> 0 | ... N27: =SUM(N7:N26) -> 0 | O27: =SUM(C27:N27) -> 0
A28: 2. Despesas com Recursos Humanos | B28: Carga horária mensal | O28: Valor Total
A29: Função de cada profissional na execução da proposta | C29: Mês 1 | D29: Mês 2 | E29: Mês 3 | F29: Mês 4 | G29: Mês 5 | H29: Mês 6 | I29: Mês 7 | J29: Mês 8 | K29: Mês 9 | L29: Mês 10 | M29: Mês 11 | N29: Mês 12
C30: 0 | D30: 0 | E30: 0 | F30: 0 | G30: 0 | H30: 0 | I30: 0 | J30: 0 | K30: 0 | L30: 0 | M30: 0 | N30: 0 | O30: =SUM(C30:N30) -> 0
C31: 0 | D31: 0 | E31: 0 | F31: 0 | G31: 0 | H31: 0 | I31: 0 | J31: 0 | K31: 0 | L31: 0 | M31: 0 | N31: 0 | O31: =SUM(C31:N31) -> 0
C32: 0 | D32: 0 | E32: 0 | F32: 0 | G32: 0 | H32: 0 | I32: 0 | J32: 0 | K32: 0 | L32: 0 | M32: 0 | N32: 0 | O32: =SUM(C32:N32) -> 0
C33: 0 | D33: 0 | E33: 0 | F33: 0 | G33: 0 | H33: 0 | I33: 0 | J33: 0 | K33: 0 | L33: 0 | M33: 0 | N33: 0 | O33: =SUM(C33:N33) -> 0
C34: 0 | D34: 0 | E34: 0 | F34: 0 | G34: 0 | H34: 0 | I34: 0 | J34: 0 | K34: 0 | L34: 0 | M34: 0 | N34: 0 | O34: =SUM(C34:N34) -> 0
C35: 0 | D35: 0 | E35: 0 | F35: 0 | G35: 0 | H35: 0 | I35: 0 | J35: 0 | K35: 0 | L35: 0 | M35: 0 | N35: 0 | O35: =SUM(C35:N35) -> 0
C36: 0 | D36: 0 | E36: 0 | F36: 0 | G36: 0 | H36: 0 | I36: 0 | J36: 0 | K36: 0 | L36: 0 | M36: 0 | N36: 0 | O36: =SUM(C36:N36) -> 0
C37: 0 | D37: 0 | E37: 0 | F37: 0 | G37: 0 | H37: 0 | I37: 0 | J37: 0 | K37: 0 | L37: 0 | M37: 0 | N37: 0 | O37: =SUM(C37:N37) -> 0
C38: 0 | D38: 0 | E38: 0 | F38: 0 | G38: 0 | H38: 0 | I38: 0 | J38: 0 | K38: 0 | L38: 0 | M38: 0 | N38: 0 | O38: =SUM(C38:N38) -> 0
C39: 0 | D39: 0 | E39: 0 | F39: 0 | G39: 0 | H39: 0 | I39: 0 | J39: 0 | K39: 0 | L39: 0 | M39: 0 | N39: 0 | O39: =SUM(C39:N39) -> 0
C40: 0 | D40: 0 | E40: 0 | F40: 0 | G40: 0 | H40: 0 | I40: 0 | J40: 0 | K40: 0 | L40: 0 | M40: 0 | N40: 0 | O40: =SUM(C40:N40) -> 0
C41: 0 | D41: 0 | E41: 0 | F41: 0 | G41: 0 | H41: 0 | I41: 0 | J41: 0 | K41: 0 | L41: 0 | M41: 0 | N41: 0 | O41: =SUM(C41:N41) -> 0
... C49: 0 | D49: 0 | E49: 0 | F49: 0 | G49: 0 | H49: 0 | I49: 0 | J49: 0 | K49: 0 | L49: 0 | M49: 0 | N49: 0 | O49: =SUM(C49:N49) -> 0
A50: Total | C50: =SUM(C30:C49) -> 0 | D50: =SUM(D30:D49) -> 0 | E50: =SUM(E30:E49) -> 0 | F50: =SUM(F30:F49) -> 0 | G50: =SUM(G30:G49) -> 0 | H50: =SUM(H30:H49) -> 0 | I50: =SUM(I30:I49) -> 0 | J50: =SUM(J30:J49) -> 0 | ... N50: =SUM(N30:N49) -> 0 | O50: =SUM(C50:N50) -> 0
A51: 3. Despesas com itens físicos ou produtos que serão oferecidos para crianças, adolescentes e familiares | O51: Valor Total
A52: Descrição dos itens de despesa | C52: Mês 1 | D52: Mês 2 | E52: Mês 3 | F52: Mês 4 | G52: Mês 5 | H52: Mês 6 | I52: Mês 7 | J52: Mês 8 | K52: Mês 9 | L52: Mês 10 | M52: Mês 11 | N52: Mês 12
C53: 0 | D53: 0 | E53: 0 | F53: 0 | G53: 0 | H53: 0 | I53: 0 | J53: 0 | K53: 0 | L53: 0 | M53: 0 | N53: 0 | O53: =SUM(C53:N53) -> 0
C54: 0 | D54: 0 | E54: 0 | F54: 0 | G54: 0 | H54: 0 | I54: 0 | J54: 0 | K54: 0 | L54: 0 | M54: 0 | N54: 0 | O54: =SUM(C54:N54) -> 0
...

Sheet Contrapartidas
A1: DESPESAS QUE SERÃO CUSTEADAS COM RECURSOS DE CONTRAPARTIDAS (Caso não estejam previstas despesas em alguma das categorias abaixo, deixe as linhas em branco. Se necessário, inclua linhas adicionais em qualquer das categorias.)
A2: 1. Despesas com Bens Duráveis | O2: Valor Total
A3: Descrição dos itens de despesa | C3: Mês 1 | D3: Mês 2 | E3: Mês 3 | F3: Mês 4 | G3: Mês 5 | H3: Mês 6 | I3: Mês 7 | J3: Mês 8 | K3: Mês 9 | L3: Mês 10 | M3: Mês 11 | N3: Mês 12
C4: 0 | D4: 0 | E4: 0 | F4: 0 | G4: 0 | H4: 0 | I4: 0 | J4: 0 | K4: 0 | L4: 0 | M4: 0 | N4: 0 | O4: =SUM(C4:N4) -> 0
C5: 0 | D5: 0 | E5: 0 | F5: 0 | G5: 0 | H5: 0 | I5: 0 | J5: 0 | K5: 0 | L5: 0 | M5: 0 | N5: 0 | O5: =SUM(C5:N5) -> 0
C6: 0 | D6: 0 | E6: 0 | F6: 0 | G6: 0 | H6: 0 | I6: 0 | J6: 0 | K6: 0 | L6: 0 | M6: 0 | N6: 0 | O6: =SUM(C6:N6) -> 0
C7: 0 | D7: 0 | E7: 0 | F7: 0 | G7: 0 | H7: 0 | I7: 0 | J7: 0 | K7: 0 | L7: 0 | M7: 0 | N7: 0 | O7: =SUM(C7:N7) -> 0
C8: 0 | D8: 0 | E8: 0 | F8: 0 | G8: 0 | H8: 0 | I8: 0 | J8: 0 | K8: 0 | L8: 0 | M8: 0 | N8: 0 | O8: =SUM(C8:N8) -> 0
C9: 0 | D9: 0 | E9: 0 | F9: 0 | G9: 0 | H9: 0 | I9: 0 | J9: 0 | K9: 0 | L9: 0 | M9: 0 | N9: 0 | O9: =SUM(C9:N9) -> 0
C10: 0 | D10: 0 | E10: 0 | F10: 0 | G10: 0 | H10: 0 | I10: 0 | J10: 0 | K10: 0 | L10: 0 | M10: 0 | N10: 0 | O10: =SUM(C10:N10) -> 0
C11: 0 | D11: 0 | E11: 0 | F11: 0 | G11: 0 | H11: 0 | I11: 0 | J11: 0 | K11: 0 | L11: 0 | M11: 0 | N11: 0 | O11: =SUM(C11:N11) -> 0
C12: 0 | D12: 0 | E12: 0 | F12: 0 | G12: 0 | H12: 0 | I12: 0 | J12: 0 | K12: 0 | L12: 0 | M12: 0 | N12: 0 | O12: =SUM(C12:N12) -> 0
C13: 0 | D13: 0 | E13: 0 | F13: 0 | G13: 0 | H13: 0 | I13: 0 | J13: 0 | K13: 0 | L13: 0 | M13: 0 | N13: 0 | O13: =SUM(C13:N13) -> 0
C14: 0 | D14: 0 | E14: 0 | F14: 0 | G14: 0 | H14: 0 | I14: 0 | J14: 0 | K14: 0 | L14: 0 | M14: 0 | N14: 0 | O14: =SUM(C14:N14) -> 0
C15: 0 | D15: 0 | E15: 0 | F15: 0 | G15: 0 | H15: 0 | I15: 0 | J15: 0 | K15: 0 | L15: 0 | M15: 0 | N15: 0 | O15: =SUM(C15:N15) -> 0
... C23: 0 | D23: 0 | E23: 0 | F23: 0 | G23: 0 | H23: 0 | I23: 0 | J23: 0 | K23: 0 | L23: 0 | M23: 0 | N23: 0 | O23: =SUM(C23:N23) -> 0
A24: Total | C24: =SUM(C4:C23) -> 0 | D24: =SUM(D4:D23) -> 0 | E24: =SUM(E4:E23) -> 0 | F24: =SUM(F4:F23) -> 0 | G24: =SUM(G4:G23) -> 0 | H24: =SUM(H4:H23) -> 0 | I24: =SUM(I4:I23) -> 0 | J24: =SUM(J4:J23) -> 0 | ... N24: =SUM(N4:N23) -> 0 | O24: =SUM(C24:N24) -> 0
A25: 2. Despesas com Recursos Humanos | B25: Carga horária mensal | O25: Valor Total
A26: Função de cada profissional na execução da proposta | C26: Mês 1 | D26: Mês 2 | E26: Mês 3 | F26: Mês 4 | G26: Mês 5 | H26: Mês 6 | I26: Mês 7 | J26: Mês 8 | K26: Mês 9 | L26: Mês 10 | M26: Mês 11 | N26: Mês 12
C27: 0 | D27: 0 | E27: 0 | F27: 0 | G27: 0 | H27: 0 | I27: 0 | J27: 0 | K27: 0 | L27: 0 | M27: 0 | N27: 0 | O27: =SUM(C27:N27) -> 0
C28: 0 | D28: 0 | E28: 0 | F28: 0 | G28: 0 | H28: 0 | I28: 0 | J28: 0 | K28: 0 | L28: 0 | M28: 0 | N28: 0 | O28: =SUM(C28:N28) -> 0
C29: 0 | D29: 0 | E29: 0 | F29: 0 | G29: 0 | H29: 0 | I29: 0 | J29: 0 | K29: 0 | L29: 0 | M29: 0 | N29: 0 | O29: =SUM(C29:N29) -> 0
C30: 0 | D30: 0 | E30: 0 | F30: 0 | G30: 0 | H30: 0 | I30: 0 | J30: 0 | K30: 0 | L30: 0 | M30: 0 | N30: 0 | O30: =SUM(C30:N30) -> 0
C31: 0 | D31: 0 | E31: 0 | F31: 0 | G31: 0 | H31: 0 | I31: 0 | J31: 0 | K31: 0 | L31: 0 | M31: 0 | N31: 0 | O31: =SUM(C31:N31) -> 0
C32: 0 | D32: 0 | E32: 0 | F32: 0 | G32: 0 | H32: 0 | I32: 0 | J32: 0 | K32: 0 | L32: 0 | M32: 0 | N32: 0 | O32: =SUM(C32:N32) -> 0
C33: 0 | D33: 0 | E33: 0 | F33: 0 | G33: 0 | H33: 0 | I33: 0 | J33: 0 | K33: 0 | L33: 0 | M33: 0 | N33: 0 | O33: =SUM(C33:N33) -> 0
C34: 0 | D34: 0 | E34: 0 | F34: 0 | G34: 0 | H34: 0 | I34: 0 | J34: 0 | K34: 0 | L34: 0 | M34: 0 | N34: 0 | O34: =SUM(C34:N34) -> 0
C35: 0 | D35: 0 | E35: 0 | F35: 0 | G35: 0 | H35: 0 | I35: 0 | J35: 0 | K35: 0 | L35: 0 | M35: 0 | N35: 0 | O35: =SUM(C35:N35) -> 0
C36: 0 | D36: 0 | E36: 0 | F36: 0 | G36: 0 | H36: 0 | I36: 0 | J36: 0 | K36: 0 | L36: 0 | M36: 0 | N36: 0 | O36: =SUM(C36:N36) -> 0
C37: 0 | D37: 0 | E37: 0 | F37: 0 | G37: 0 | H37: 0 | I37: 0 | J37: 0 | K37: 0 | L37: 0 | M37: 0 | N37: 0 | O37: =SUM(C37:N37) -> 0
C38: 0 | D38: 0 | E38: 0 | F38: 0 | G38: 0 | H38: 0 | I38: 0 | J38: 0 | K38: 0 | L38: 0 | M38: 0 | N38: 0 | O38: =SUM(C38:N38) -> 0
... C46: 0 | D46: 0 | E46: 0 | F46: 0 | G46: 0 | H46: 0 | I46: 0 | J46: 0 | K46: 0 | L46: 0 | M46: 0 | N46: 0 | O46: =SUM(C46:N46) -> 0
A47: Total | C47: =SUM(C27:C46) -> 0 | D47: =SUM(D27:D46) -> 0 | E47: =SUM(E27:E46) -> 0 | F47: =SUM(F27:F46) -> 0 | G47: =SUM(G27:G46) -> 0 | H47: =SUM(H27:H46) -> 0 | I47: =SUM(I27:I46) -> 0 | J47: =SUM(J27:J46) -> 0 | ... N47: =SUM(N27:N46) -> 0 | O47: =SUM(C47:N47) -> 0
A48: 3. Despesas com itens físicos ou produtos que serão oferecidos para crianças, adolescentes e familiares | O48: Valor Total
A49: Descrição dos itens de despesa | C49: Mês 1 | D49: Mês 2 | E49: Mês 3 | F49: Mês 4 | G49: Mês 5 | H49: Mês 6 | I49: Mês 7 | J49: Mês 8 | K49: Mês 9 | L49: Mês 10 | M49: Mês 11 | N49: Mês 12
C50: 0 | D50: 0 | E50: 0 | F50: 0 | G50: 0 | H50: 0 | I50: 0 | J50: 0 | K50: 0 | L50: 0 | M50: 0 | N50: 0 | O50: =SUM(C50:N50) -> 0
C51: 0 | D51: 0 | E51: 0 | F51: 0 | G51: 0 | H51: 0 | I51: 0 | J51: 0 | K51: 0 | L51: 0 | M51: 0 | N51: 0 | O51: =SUM(C51:N51) -> 0
C52: 0 | D52: 0 | E52: 0 | F52: 0 | G52: 0 | H52: 0 | I52: 0 | J52: 0 | K52: 0 | L52: 0 | M52: 0 | N52: 0 | O52: =SUM(C52:N52) -> 0
C53: 0 | D53: 0 | E53: 0 | F53: 0 | G53: 0 | H53: 0 | I53: 0 | J53: 0 | K53: 0 | L53: 0 | M53: 0 | N53: 0 | O53: =SUM(C53:N53) -> 0
C54: 0 | D54: 0 | E54: 0 | F54: 0 | G54: 0 | H54: 0 | I54: 0 | J54: 0 | K54: 0 | L54: 0 | M54: 0 | N54: 0 | O54: =SUM(C54:N54) -> 0
...

Sheet Corpo da Mensagem
A1: Senhores …..
A3: Bom dia!
A5: Referente a prestação de contas, envio em anexo uma planilha simples que facilitará a visualização de todo o gasto e o saldo utilizado no Projeto.
A7: Lembrando de que o Projeto visava a utilização de R$ …….(valor total do Projeto ) ( por extenso).
A9: Com a listagem preenchida e as cópias dos recibos e notas fiscais, podemos então quantificar o saldo total em 2008.
A11: Com isso visamos estabelecer uma visão mais ampla sobre a aplicação da verba no projeto, alterando se necessário a implantação de qualquer consumo que se faça necessário.
A13: Atenciosamente,

Sheet Síntese
A1: EDITAL FIA/2021
A2: SÍNTESE DA PREVISÃO ORÇAMENTÁRIA PARA 12 MESES Atenção: Esta aba será gerada automaticamente à medida em que as anteriores forem sendo preenchidas.
A3: Itens de despesa | B3: Fonte | D3: Total | E3: Distribuição percentual | F3: Total previsto com bens duráveis | G3: Total previsto com demais despesas
B4: Destinação Itaú Social | C4: Contrapartidas
A5: 1. Despesas com Bens Duráveis | B5: =('Destinação Itaú Social'!$O27) -> 0 | C5: =Contrapartidas!O24 -> 0 | D5: =SUM(B5:C5) -> 0 | E5: =D5/B10 -> #DIV/0! | F5: =B5+C5 -> 0 | G5: =D6+D7+D8 -> 0
A6: 2. Despesas com Recursos Humanos | B6: =('Destinação Itaú Social'!$O50) -> 0 | C6: =Contrapartidas!O47 -> 0 | D6: =SUM(B6:C6) -> 0 | E6: =D6/B10 -> #DIV/0!
A7: 3. Despesas com itens físicos ou produtos que serão oferecidos para crianças, adolescentes e familiares | B7: =('Destinação Itaú Social'!$O73) -> 0 | C7: =Contrapartidas!O70 -> 0 | D7: =SUM(B7:C7) -> 0 | E7: =D7/B10 -> #DIV/0!
A8: 4. Outras Despesas Contínuas ou Variáveis | B8: =('Destinação Itaú Social'!$O96) -> 0 | C8: =Contrapartidas!O93 -> 0 | D8: =SUM(B8:C8) -> 0 | E8: =D8/B10 -> #DIV/0!
A9: Total | B9: =SUM(B5:B8) -> 0 | C9: =SUM(C5:C8) -> 0
A10: Total Geral | B10: =(B9+C9) -> 0
